BEGIN:VCALENDAR
VERSION:2.0
METHOD:PUBLISH
PRODID:-//Tendenci - The Open Source AMS for Associations//Tendenci Codeba
 se MIMEDIR//EN
BEGIN:VEVENT
DESCRIPTION:--- This iCal file does *NOT* confirm registration.\nEvent det
 ails subject to change. ---\nhttps://www.avantgardenhouston.com/events/965
 /\n\nEvent Title: Wedding. Private party\nStart Date / Time: Nov 02, 2013 
 20:18 PM GMT\nLocation: \n\n\n--- This iCal file does *NOT* confirm regist
 ration.Event details subject to change. ---\n\n--- By Tendenci - The Open 
 Source AMS for Associations ---\n
UID:uid965@avantgardenhouston.com
SUMMARY:Wedding. Private party
DTSTART:20131102T201800Z
DTEND:20131102T220000Z
CLASS:PUBLIC
PRIORITY:5
DTSTAMP:20260420T192937Z
TRANSP:OPAQUE
SEQUENCE:0
X-ALT-DESC;FMTTYPE=text/html:<div>--- This iCal file does *NOT* confirm re
 gistration.Event details subject to change. ---</div><h1>Event Title: Wedd
 ing. Private party</h1><div>https://www.avantgardenhouston.com/events/965/
 </div><br /><div>When: Nov 02, 2013 20:18 PM GMT</div><br /><div></div><di
 v>--- This iCal file does *NOT* confirm registration.Event details subject
  to change. ---</div><div>--- Tendenci&reg\; Software by <a href="https://
 www.tendenci.com">tendenci.com</a> - The Open Source AMS for Associations 
 ---</div>
BEGIN:VALARM
TRIGGER:-PT30M
ACTION:DISPLAY
DESCRIPTION:Reminder
END:VALARM
END:VEVENT
END:VCALENDAR
