BEGIN:VCALENDAR
VERSION:2.0
METHOD:PUBLISH
PRODID:-//Tendenci - The Open Source AMS for Associations//Tendenci Codeba
 se MIMEDIR//EN
BEGIN:VEVENT
DESCRIPTION:--- This iCal file does *NOT* confirm registration.\nEvent det
 ails subject to change. ---\nhttps://www.avantgardenhouston.com/events/969
 /\n\nEvent Title: wedding. Private party. closed to the public\nStart Date
  / Time: Nov 16, 2013 00:00 AM GMT\nLocation: \n\n\n--- This iCal file doe
 s *NOT* confirm registration.Event details subject to change. ---\n\n--- B
 y Tendenci - The Open Source AMS for Associations ---\n
UID:uid969@avantgardenhouston.com
SUMMARY:wedding. Private party. closed to the public
DTSTART:20131116T000000Z
DTEND:20131116T235900Z
CLASS:PUBLIC
PRIORITY:5
DTSTAMP:20260420T193736Z
TRANSP:OPAQUE
SEQUENCE:0
X-ALT-DESC;FMTTYPE=text/html:<div>--- This iCal file does *NOT* confirm re
 gistration.Event details subject to change. ---</div><h1>Event Title: wedd
 ing. Private party. closed to the public</h1><div>https://www.avantgardenh
 ouston.com/events/969/</div><br /><div>When: Nov 16, 2013 00:00 AM GMT</di
 v><br /><div></div><div>--- This iCal file does *NOT* confirm registration
 .Event details subject to change. ---</div><div>--- Tendenci&reg\; Softwar
 e by <a href="https://www.tendenci.com">tendenci.com</a> - The Open Source
  AMS for Associations ---</div>
BEGIN:VALARM
TRIGGER:-PT30M
ACTION:DISPLAY
DESCRIPTION:Reminder
END:VALARM
END:VEVENT
END:VCALENDAR
