BEGIN:VCALENDAR
VERSION:2.0
METHOD:PUBLISH
PRODID:-//Tendenci - The Open Source AMS for Associations//Tendenci Codeba
 se MIMEDIR//EN
BEGIN:VEVENT
DESCRIPTION:--- This iCal file does *NOT* confirm registration.\nEvent det
 ails subject to change. ---\nhttps://www.avantgardenhouston.com/events/98/
 \n\nEvent Title: Colombian Alumni Association at OU Annual Party.\nStart D
 ate / Time: Dec 09, 2011 20:30 PM US/Central\nLocation: \n\n\n--- This iCa
 l file does *NOT* confirm registration.Event details subject to change. --
 -\n\n--- By Tendenci - The Open Source AMS for Associations ---\n
UID:uid98@avantgardenhouston.com
SUMMARY:Colombian Alumni Association at OU Annual Party.
DTSTART:20111210T023000Z
DTEND:20111210T053000Z
CLASS:PUBLIC
PRIORITY:5
DTSTAMP:20260419T182018Z
TRANSP:OPAQUE
SEQUENCE:0
X-ALT-DESC;FMTTYPE=text/html:<div>--- This iCal file does *NOT* confirm re
 gistration.Event details subject to change. ---</div><h1>Event Title: Colo
 mbian Alumni Association at OU Annual Party.</h1><div>https://www.avantgar
 denhouston.com/events/98/</div><br /><div>When: Dec 09, 2011 20:30 PM US/C
 entral</div><br /><div></div><div>--- This iCal file does *NOT* confirm re
 gistration.Event details subject to change. ---</div><div>--- Tendenci&reg
 \; Software by <a href="https://www.tendenci.com">tendenci.com</a> - The O
 pen Source AMS for Associations ---</div>
BEGIN:VALARM
TRIGGER:-PT30M
ACTION:DISPLAY
DESCRIPTION:Reminder
END:VALARM
END:VEVENT
END:VCALENDAR
