BEGIN:VCALENDAR
VERSION:2.0
METHOD:PUBLISH
PRODID:-//Tendenci - The Open Source AMS for Associations//Tendenci Codeba
 se MIMEDIR//EN
BEGIN:VEVENT
DESCRIPTION:--- This iCal file does *NOT* confirm registration.\nEvent det
 ails subject to change. ---\nhttps://www.avantgardenhouston.com/events/99/
 \n\nEvent Title: birthday party upstairs\nStart Date / Time: Dec 09, 2011 
 20:30 PM US/Central\nLocation: Upstairs Listening room\n\n\n--- This iCal 
 file does *NOT* confirm registration.Event details subject to change. ---\
 n\n--- By Tendenci - The Open Source AMS for Associations ---\n
UID:uid99@avantgardenhouston.com
SUMMARY:birthday party upstairs
DTSTART:20111210T023000Z
DTEND:20111210T053000Z
CLASS:PUBLIC
PRIORITY:5
DTSTAMP:20260419T182020Z
TRANSP:OPAQUE
SEQUENCE:0
LOCATION:Upstairs Listening room
X-ALT-DESC;FMTTYPE=text/html:<div>--- This iCal file does *NOT* confirm re
 gistration.Event details subject to change. ---</div><h1>Event Title: birt
 hday party upstairs</h1><div>https://www.avantgardenhouston.com/events/99/
 </div><br /><div>When: Dec 09, 2011 20:30 PM US/Central</div><br /><div></
 div><div>--- This iCal file does *NOT* confirm registration.Event details 
 subject to change. ---</div><div>--- Tendenci&reg\; Software by <a href="h
 ttps://www.tendenci.com">tendenci.com</a> - The Open Source AMS for Associ
 ations ---</div>
BEGIN:VALARM
TRIGGER:-PT30M
ACTION:DISPLAY
DESCRIPTION:Reminder
END:VALARM
END:VEVENT
END:VCALENDAR
